BEGIN:VCALENDAR
VERSION:2.0
PRODID:-//ChamberMaster//Event Calendar 2.0//EN
METHOD:PUBLISH
X-PUBLISHED-TTL:P3D
REFRESH-INTERVAL:P3D
CALSCALE:GREGORIAN
BEGIN:VEVENT
DTSTART:20200328T150000Z
DTEND:20200328T190000Z
X-MICROSOFT-CDO-ALLDAYEVENT:FALSE
SUMMARY:CASA Superhero Run
DESCRIPTION:Join CASA of Tulare County at the 4th Annual Superhero Run! The event features a 5k and 1k Run/Walk (timed)\, carnival\, food\, games\, & more! Included with your registration: One CASA Superhero Run T-Shirt Finisher's Medal Chip Timed Race All registrants are automatically eligible for the raffle -- you will be given raffle tickets on the day of the run! CASA of Tulare County 1146 North Chinowth Street Visalia\, CA 93291 (cross street Goshen Avenue) EXTRA! EXTRA! * Headquarters for the 4th Annual CASA Superhero Run will be at Live Oak Park in Tulare\, CA. * Your support of this event helps recruit\, train and support CASA advocates and provides the professional staff and resources needed to advocate powerfully for the most vulnerable children in our community. Individually\, each of us can be a hero to some\, united we can be superheroes for many! Are pets\, strollers\, bicycles and skates allowed on race day? We do allow strollers\, but for everyone's safety\, we discourage skateboards\, bicycles\, inline skates and wheelie footwear. Service dogs are welcome and must be on a leash at all times. What happens if it rains? The Superhero Run is a rain or shine event. However\, in the case of severe weather\, we will cancel. If this is the case\, we will update our Run homepage on or before the morning of the event. https://runsignup.com/casarun2020
X-ALT-DESC;FMTTYPE=text/html:Join CASA of Tulare County at the 4th Annual Superhero Run! The event features a 5k and 1k Run/Walk (timed)\, carnival\, food\, games\, &amp\; more! Included with your registration: One CASA Superhero Run T-Shirt Finisher&#39\;s Medal Chip Timed Race All registrants are automatically eligible for the raffle -- you will be given raffle tickets on the day of the run! CASA of Tulare County 1146 North Chinowth Street Visalia\, CA 93291 (cross street Goshen Avenue) EXTRA! EXTRA! * Headquarters for the 4th Annual CASA Superhero Run will be at Live Oak Park in Tulare\, CA. * Your support of this event helps recruit\, train and support CASA advocates and provides the professional staff and resources needed to advocate powerfully for the most vulnerable children in our community. Individually\, each of us can be a hero to some\, united we can be superheroes for many! Are pets\, strollers\, bicycles and skates allowed on race day? We do allow strollers\, but for everyone&rsquo\;s safety\, we discourage skateboards\, bicycles\, inline skates and wheelie footwear. Service dogs are welcome and must be on a leash at all times. What happens if it rains? The Superhero Run is a rain or shine event. However\, in the case of severe weather\, we will cancel. If this is the case\, we will update our Run homepage on or before the morning of the event. https://runsignup.com/casarun2020
LOCATION:Live Oak Park & Santa Fe Trails in Tulare\, CA
UID:e.2090.6432
SEQUENCE:3
DTSTAMP:20260424T012337Z
URL:http://www.tularechamber.org/events/details/casa-superhero-run-6432
END:VEVENT

END:VCALENDAR
