BEGIN:VCALENDAR
VERSION:2.0
PRODID:-//ChamberMaster//Event Calendar 2.0//EN
METHOD:PUBLISH
X-PUBLISHED-TTL:P3D
REFRESH-INTERVAL:P3D
CALSCALE:GREGORIAN
BEGIN:VEVENT
DTSTART:20260422T180000Z
DTEND:20260422T220000Z
X-MICROSOFT-CDO-ALLDAYEVENT:FALSE
SUMMARY:Family Services Rape Crisis Open House
DESCRIPTION:Come meet our team\, learn about the services available to survivors of sexual violence\, and see how we support healing in our community.
X-ALT-DESC;FMTTYPE=text/html:Come meet our team\, learn about the services available to survivors of sexual violence\, and see how we support healing in our community.
LOCATION:735 W. Oak Ave.\, Visalia\, CA
UID:e.2090.8174
SEQUENCE:3
DTSTAMP:20260420T221744Z
URL:http://www.tularechamber.org/events/details/family-services-rape-crisis-open-house-8174
END:VEVENT

END:VCALENDAR
