BEGIN:VCALENDAR
VERSION:2.0
PRODID:-//ChamberMaster//Event Calendar 2.0//EN
METHOD:PUBLISH
X-PUBLISHED-TTL:P3D
REFRESH-INTERVAL:P3D
CALSCALE:GREGORIAN
BEGIN:VEVENT
DTSTART:20260620T010000Z
DTEND:20260620T050000Z
X-MICROSOFT-CDO-ALLDAYEVENT:FALSE
SUMMARY:Salute to Dairy 2026
DESCRIPTION:Honoring Our Heritage & Advocates\n\nJoin the Tulare Chamber of Commerce on Friday\, June 19\, 2026\, at the International Agri-Center as we celebrate the heart of our region's agricultural legacy   the dairy industry. This year's Salute to Dairy will honor the 2026 Dairy Family of the Year and spotlight three outstanding dairy innovators who go above and beyond to continue moving the dairy industry into the future.\n\nGuests will enjoy a wine and cheese social\, a delicious dinner\, a live and silent auction\, and an inspiring message from our keynote speakers Pat Hillman and Scott Hilman.
X-ALT-DESC;FMTTYPE=text/html:<p data-end="591" data-start="153"><strong data-end="207" data-start="153">Honoring Our Heritage &amp\; Advocates</strong><br data-end="210" data-start="207" />\nJoin the Tulare Chamber of Commerce on Friday\, June 19\, 2026\, at the International Agri-Center as we celebrate the heart of our region&rsquo\;s agricultural legacy &mdash\; the dairy industry. This year&rsquo\;s <em data-end="418" data-start="401">Salute to Dairy</em> will honor the 2026&nbsp\;Dairy Family of the Year and spotlight three outstanding dairy innovators who go above and beyond to continue moving the dairy industry into the future.</p>\n\n<p data-end="897" data-start="593">Guests will enjoy a wine and cheese social\, a delicious dinner\, a live and silent auction\, and an inspiring message&nbsp\;from our keynote&nbsp\;speakers Pat Hillman and Scott Hilman.</p>\n
LOCATION:International Agri-Center
UID:e.2090.8117
SEQUENCE:3
DTSTAMP:20260422T192700Z
URL:http://www.tularechamber.org/events/details/salute-to-dairy-2026-8117
END:VEVENT

END:VCALENDAR
