BEGIN:VCALENDAR
VERSION:2.0
PRODID:-//ChamberMaster//Event Calendar 2.0//EN
METHOD:PUBLISH
X-PUBLISHED-TTL:P3D
REFRESH-INTERVAL:P3D
CALSCALE:GREGORIAN
BEGIN:VEVENT
DTSTART:20260425T010000Z
DTEND:20260425T033000Z
X-MICROSOFT-CDO-ALLDAYEVENT:FALSE
SUMMARY:THM Bunco Night
DESCRIPTION:Bunco Night
X-ALT-DESC;FMTTYPE=text/html:Bunco Night
LOCATION:Tulare Historical Museum 444 West Tulare Ave. Tulare\, Ca. 93274
UID:e.2090.8100
SEQUENCE:3
DTSTAMP:20260424T014359Z
URL:http://www.tularechamber.org/events/details/thm-bunco-night-8100
END:VEVENT

END:VCALENDAR
